BEGIN:VCALENDAR
VERSION:2.0
PRODID:-//swoogo.com//NONSGML kigkonsult.se iCalcreator 2.41.90//
CALSCALE:GREGORIAN
UID:65363962-3662-4765-b965-636630306366
BEGIN:VEVENT
UID:2ca142437b6a75a391688c56af0760ebd1927520@swoogo.com
DTSTAMP:20260425T031716Z
DESCRIPTION:Gabi's empowers individuals with special abilities by offering 
 comprehensive workforce training\, educational opportunities\, and holisti
 c support programs. Our mission is to facilitate their integration into th
 e workforce\, enabling them to make meaningful contributions to society an
 d lead fulfilling lives.\n\nEvent website [https://semirosas.swoogo.com/Ga
 bis]
DTSTART:20241026T220000Z
DTEND:20241027T020000Z
LAST-MODIFIED:20260425T031716Z
LOCATION:The Museum at Car Space\, 5200 Greens Dairy Road\, Raleigh\, NC 27
 616\, United States
SEQUENCE:0
STATUS:CONFIRMED
SUMMARY:Gabi’s Ghostly Gala and Annual Fundraiser - 2024
TRANSP:OPAQUE
X-ALT-DESC;FMTTYPE=text/html:<p><span style='font-size:18px\;'>Gabi's empow
 ers individuals with special abilities by offering comprehensive workforce
  training\, educational opportunities\, and holistic support programs. Our
  mission is to facilitate their integration into the workforce\, enabling 
 them to make meaningful contributions to society and lead fulfilling lives
 .</span></p>\n\n<p><span style='font-size:18px\;'><a href='https://semiros
 as.swoogo.com/Gabis' target='_blank' rel='noreferrer noopener'>Event websi
 te</a></span></p>
BEGIN:VALARM
UID:33303539-3834-4162-a130-303964653365
ACTION:DISPLAY
DESCRIPTION:Gabi's empowers individuals with special abilities by offering 
 comprehensive workforce training\, educational opportunities\, and holisti
 c support programs. Our mission is to facilitate their integration into th
 e workforce\, enabling them to make meaningful contributions to society an
 d lead fulfilling lives.\n\nEvent website [https://semirosas.swoogo.com/Ga
 bis]
TRIGGER:-P1W
END:VALARM
END:VEVENT
END:VCALENDAR
